BEGIN:VCALENDAR
CALSCALE:GREGORIAN
X-WR-TIMEZONE;VALUE=TEXT:Pacific Standard Time
METHOD:PUBLISH
PRODID:-//Flo Inc.//FloSoft//EN
BEGIN:VEVENT
DTSTART;TZID=Pacific Standard Time:20130213T233000Z
DTSTAMP:20130213T233000Z
DTEND;TZID=Pacific Standard Time:20130214T010000Z
SUMMARY;ENCODING=QUOTED-PRINTABLE:Re-visiting The Ringworm Affair: X-rays and the Jewish Question in Early Israel 
DESCRIPTION;ENCODING=QUOTED-PRINTABLE:Professor Michael Berkowitz, University College London
LOCATION;ENCODING=QUOTED-PRINTABLE:Bunche Hall, Room 6275 , History Conference Room
UID:956120130213T233000ZRe-visiting The Ringworm Affair: X-rays and the Jewish Question in Early Israel 
PRIORITY:3
BEGIN:VALARM
TRIGGER;VALUE=DURATION:-P1D
ACTION:DISPLAY
DESCRIPTION:Event reminder
END:VALARM
END:VEVENT
END:VCALENDAR
